Workbook

Sheet แบบ บ.ท.ช.2-ย.
A1: แบบ บ.ท.ช.๒/ย.
A2: หนังสือรับรองคุณสมบัติ
A3: ผู้ปฏิบัติหน้าที่ในพื้นที่ย่านอันตราย ตามระเบียบ บ.ท.ช. ข้อ ๑๐.๕
D4: ๑. ข้าพเจ้า (ยศ/ชื่อ – นามสกุล)
A5: ตำแหน่ง (ปกติ) | Q5: สังกัด(ปกติ)
A6: ขอรับรองว่าในปีงบประมาณ พ.ศ. | K6: ได้ปฏิบัติหน้าที่ราชการในการป้องกันอธิปไตย และรักษาความสงบเรียบร้อยของประเทศ
A7: ตามระเบียบ บ.ท.ช. ข้อ ๔.๑.๓ การป้องกัน ขัดขวาง ระงับ หรือปราบปรามการก่อความไม่สงบเรียบร้อยของประเทศ การจลาจล หรือวินาศกรรม
D8: ๒. ปฏิบัติหน้าที่ และเป็นกำลังพลในโครงสร้างของ กอ.รมน.ภาค ๔ สน. ตามคำสั่ง
A9: ที่ | H9: ลงวันที่ | N9: ในตำแหน่ง
A10: ตั้งแต่วันที่ | J10: และพ้นจากการปฏิบัติหน้าที่ตามคำสั่ง | T10: ที่
A11: ลงวันที่ | G11: ในตำแหน่ง | U11: ตั้งแต่วันที่
D12: ๓. ในห้วงของการปฏิบัติหน้าที่ดังกล่าว ข้าพเจ้าได้ปฏิบัติงานประจำในพื้นที่ตำบล
A13: อำเภอ | H13: จังหวัด | Q13: ข้าพเจ้าได้รับอนุมัติการลา ดังนี้
D14: ลาป่วย จำนวน | K14: ครั้งๆ ละ | P14: วัน | Q14: ดังนี้
D15: วันที่ | K15: ถึงวันที่
D16: ลากิจ จำนวน | K16: ครั้งๆ ละ | P16: วัน | Q16: ดังนี้
D17: วันที่ | K17: ถึงวันที่
D18: ลาพักผ่อน จำนวน | K18: ครั้งๆ ละ | P18: วัน | Q18: ดังนี้
D19: วันที่ | K19: ถึงวันที่
D20: ลาพักตามวงรอบ จำนวน | K20: ครั้งๆ ละ | P20: วัน | Q20: ดังนี้
D21: วันที่ | K21: ถึงวันที่
D22: การลาประเภทอื่นตามระเบียบของทางราชการ (ระบุ)
D23: จำนวน | H23: ครั้งๆ ละ | M23: วัน ดังนี้
D24: วันที่ | K24: ถึงวันที่
D25: ไม่ได้ลา
D26: ๔. ในขณะที่ได้รับคำสั่งให้ปฏิบัติหน้าที่ในพื้นที่ย่านอันตราย ตามข้อ ๒ ผู้บังคับบัญชามีคำสั่งที่ | T26: /
A27: ลงวันที่ | H27: มอบหมายให้ไปปฏิบัติหน้าที่ | S27: ณ
A28: ในวันที่ | H28: ถึงวันที่ | M28: รวม | Q28: วัน
D29: ๕. ข้าพเจ้าได้รับ พ.ส.ร./เงินรางวัลสำหรับการสู้รบ ตามระเบียบ บ.ท.ช. มาแล้ว จำนวน | Y29: ครั้ง
A30: ครั้งที่ ๑ เมื่อวันที่ | I30: ครั้งที่ ๒ เมื่อวันที่ | R30: ครั้งที่ ๓ เมื่อวันที่
K32: ( ลงชื่อ)
N33: ( | V33: )
K34: ตำแหน่ง
M35: วันที่ | Q35: เดือน | V35: พ.ศ.
C37: ข้าพเจ้าได้ตรวจสอบข้อมูลของ (ยศ/ชื่อ – นามสกุล) | T37: แล้วเห็นว่า
E38: ถูกต้องเป็นจริงทุกประการและขอรับรองว่าในปีงบประมาณที่ขอรับสิทธิ ผู้นี้ไม่ได้เป็นผู้มีความประพฤติเสื่อมเสียหรือบกพร่องต่อหน้าที่
A39: และเป็นผู้ที่มีพฤติกรรมเข้าข่ายได้รับสิทธิ ตามระเบียบ บ.ท.ช. และยังไม่ได้รับสิทธิตามระเบียบหรือกฎหมายอื่นใด
E40: ไม่เป็นไปตามที่ได้รับรองมา เนื่องจาก
J42: (ลงชื่อ)
M43: ( | S43: )
...

Sheet ด้านหลัง
A1: คำอธิบายการกรอกข้อมูลในหนังสือรับรองคุณสมบัติ (แบบ บ.ท.ช.๒/ย.)
I2: ๑. ข้อมูลส่วนบุคคล
I3: ให้กรอกรายละเอียดของ ยศ ชื่อ ชื่อสกุล ตำแหน่ง สังกัดเดิมหรือสังกัดปกติของผู้มีสิทธิ
D4: ได้รับ พ.ส.ร. /เงินรางวัลสำหรับการสู้รบ
I5: ๒. ข้อมูลการปฏิบัติหน้าที่ในพื้นที่ย่านอันตราย
I6: ๒.๑ การปฏิบัติหน้าที่และการพ้นจากการปฏิบัติหน้าที่ในพื้นที่ย่านอันตรายของกำลังพล
D7: ในโครงสร้างของ กอ.รมน.ภาค ๔ สน. ตามคำสั่งของหน่วยใด เลขที่อะไร และออกเมื่อวันที่เท่าใด เช่น คำสั่ง
D8: กอ.รมน.ภาค ๔ ที่ ๕๘/๒๕๕๘ ลงวันที่ ๒๔ มิถุนายน ๒๕๕๘ เป็นต้น
I9: ๒.๒ ตำแหน่งที่ปฏิบัติงานจริงใน กอ.รมน.ภาค ๔ สน. คือ ตำแหน่งอะไร เช่น พลปืนเล็ก
D10: พลลาดตระเวน เป็นต้น
I11: ๒.๓ ต้องปฏิบัติหน้าที่ตามคำสั่ง ข้อ ๒.๑ ตั้งแต่เมื่อใด และพ้นจากการปฏิบัติหน้าที่เมื่อใด
D12: โดยให้กรอกรายละเอียด วัน/เดือน/ปี เช่น ตั้งแต่วันที่ ๑ ตุลาคม ๒๕๕๗ และพ้นจากการปฏิบัติหน้าที่เมื่อวันที่
D13: ๑ ตุลาคม ๒๕๕๘ เป็นต้น
I14: ๓. ข้อมูลการลาประเภทต่าง ๆ
I15: ๓.๑ ให้กรอกรายละเอียดชื่อตำบล อำเภอ และจังหวัด ที่ไปปฏิบัติหน้าที่ตามคำสั่ง ข้อ ๒.๑
I16: ๓.๒ ให้ระบุเครื่องหมาย √ ในช่อง □ ในกรณีที่ได้รับอนุญาตให้ลาตามรายการประเภทต่าง ๆ
D17: ให้กรอกจำนวนครั้งที่ลา และลาครั้งละกี่วัน โดยกรอก วัน/เดือน/ปี ที่ลา และลาถึงเมื่อใดในแต่ละประเภทของการลา
I18: ๔. ข้อมูลการปฏิบัติหน้าที่นอกพื้นที่ย่านอันตราย
I19: ๔.๑ ขณะปฏิบัติหน้าที่ในย่านอันตราย ผู้บังคับบัญชาบุคคลใด/หน่วยใด ได้มีคำสั่งให้ไป
D20: ปฏิบัติหน้าที่นอกพื้นที่ย่านอันตรายนั้น ให้ระบุเลขที่คำสั่งและออกเมื่อวันที่เท่าใด (หากมี)
I21: ๔.๒ โดยมอบหมายให้ไปปฏิบัติหน้ที่อะไร ที่ไหน (ให้ระบุจังหวัด) เช่น ไปประชุมสัมมนาที่
D22: จังหวัดเชียงใหม่ เป็นต้น
I23: ๔.๓ ให้กรอก วัน/เดือน/ปี ที่ต้องเริ่มและสิ้นสุดของการไปปฏิบัติหน้าที่ตามคำสั่ง ข้อ ๔.๑
D24: รวมเป็นจำนวนกี่วัน
I25: ๔.๔ หากมีการปฏิบัติหน้าที่นอกพื้นที่ย่านอันตรายมากกว่า ๑ ครั้ง ให้ระบุทุกครั้งเพิ่มเติม
D26: ต่อท้ายในข้อ ๔ ของแบบ บ.ท.ช. ๒/ย.
I27: ๕. ข้อมูลการได้รับ พ.ส.ร. ตามระเบียบ บ.ท.ช.
I28: ให้กรอกจำนวนครั้งของการได้รับ พ.ส.ร. ตามระเบียบ บ.ท.ช. ว่าเคยได้รับมากี่ครั้ง เมื่อใดบ้าง
D29: เช่น ๒ ครั้ง ครั้งที่ ๑ เมื่อวันที่ ๑ ตุลาคม ๒๕๔๗ ครั้งที่ ๒ เมื่อวันที่ ๑ ตุลาคม ๒๕๕๐ เป็นต้น
I30: ทั้งนี้ เมื่อกรอกข้อมูลตามข้อ ๑ - ๕ เป็นไปอย่างถูกต้องครบถ้วนแล้ว ให้ผู้ปฏิบัติหน้าที่ลงลายมือชื่อ
D31: ตำแหน่ง และวันที่/เดือน/ปี เพื่อรับรองตนเองในข้อมูลที่ได้กรอกมา พร้อมแนบสำเนาบัตรประจำตัวเจ้าหน้าที่
D32: ของรัฐที่ได้รับรองสำเนาถูกต้อง
I33: ๖. การรับรองของผู้บังคับบัญชา
I34: ๖.๑ ผู้บังคับบัญชาผู้รับรอง หมายถึง ผู้บังคับบัญชาหน่วยงานต้นสังกัดของผู้ปฏิบัติหน้าที่
D35: ซึ่งเป็นผู้มีอำนาจมีคำสังเลื่อนเงินเดือนให้แก่ผู้ปฏิบัติหน้าที่ ทั้งนี้ ให้หมายความรวมถึงผู้ที่ผู้บังคับบัญชาหน่วยงาน
D36: ดังกล่าวได้มอบหมายด้วย
I37: ๖.๒ ให้กรอก ยศ ชื่อ ชื่อสกุล ของผู้ปฏิบัติหน้าที่ และหากผู้บังคับบัญชาพิจารณาแล้วเห็นว่า
D38: ไม่เป็นไปตามที่ได้รับรองมา ให้ระบุเหตุผลด้วย
I39: ทั้งนี้ เมื่อกรอกข้อมูลในแบบ บ.ท.ช. ๒/ย. เป็นไปอย่างถูกต้องครบถ้วนแล้ว ให้ผู้บังคับบัญชา
D40: ตามข้อ ๖.๑ ลงลายมือชื่อ ตำแหน่ง และวันที่/เดือน/ปี เพื่อรับรองคุณสมบัติของผู้ปฏิบัติหน้าที่ พร้อมแนบ
...

Sheet แบบ บ.ท.ช.2-ย. (ตัวอย่าง)
A1: แบบ บ.ท.ช.๒/ย.
A2: หนังสือรับรองคุณสมบัติ
A3: ผู้ปฏิบัติหน้าที่ในพื้นที่ย่านอันตราย ตามระเบียบ บ.ท.ช. ข้อ ๑๐.๕
D4: ๑. ข้าพเจ้า (ยศ/ชื่อ – นามสกุล) | J4: ร.ท.วัชรินทร์ | N4: เมืองดิษฐ์
A5: ตำแหน่ง (ปกติ) | D5: ผบ.มว.สาย ร้อย.สายและวิทยุถ่ายทอด ส.พัน.๒๔ ทภ.๔ | Q5: สังกัด(ปกติ) | T5: ส.พัน.๒๔ ทภ.๔
A6: ขอรับรองว่าในปีงบประมาณ พ.ศ. | G6: ๒๕๖๓ | K6: ได้ปฏิบัติหน้าที่ราชการในการป้องกันอธิปไตย และรักษาความสงบเรียบร้อยของประเทศ
A7: ตามระเบียบ บ.ท.ช. ข้อ ๔.๑.๓ การป้องกัน ขัดขวาง ระงับ หรือปราบปรามการก่อความไม่สงบเรียบร้อยของประเทศ การจลาจล หรือวินาศกรรม
D8: ๒. ปฏิบัติหน้าที่ และเป็นกำลังพลในโครงสร้างของ กอ.รมน.ภาค ๔ สน. ตามคำสั่ง | S8: กอ.รมน.
A9: ที่ | B9: ๗๔๖(๔)/๒๕๖๓ | H9: ลงวันที่ | J9: ๗ ก.ค.๖๓ | N9: ในตำแหน่ง | Q9: นายทหารสวัสดิการ ผบร.สบค.กอ.รมน.ภาค ๔ สน.
A10: ตั้งแต่วันที่ | D10: ๑ ต.ค.๖๒ | J10: และพ้นจากการปฏิบัติหน้าที่ตามคำสั่ง | Q10: กอ.รมน. | T10: ที่ | U10: ๗๔๖(๔)/๒๕๖๓
A11: ลงวันที่ | C11: ๗ ก.ค.๖๓ | G11: ในตำแหน่ง | I11: นายทหารสวัสดิการ ผบร.สบค.กอ.รมน.ภาค ๔ สน. | U11: ตั้งแต่วันที่ | W11: ๑ ต.ค.๖๓
D12: ๓. ในห้วงของการปฏิบัติหน้าที่ดังกล่าว ข้าพเจ้าได้ปฏิบัติงานประจำในพื้นที่ตำบล | R12: เขาตูม
A13: อำเภอ | C13: ยะรัง | H13: จังหวัด | J13: ปัตตานี | Q13: ข้าพเจ้าได้รับอนุมัติการลา ดังนี้
D14: ลาป่วย จำนวน | K14: ครั้งๆ ละ | P14: วัน | Q14: ดังนี้
D15: วันที่ | K15: ถึงวันที่
D16: ลากิจ จำนวน | K16: ครั้งๆ ละ | P16: วัน | Q16: ดังนี้
D17: วันที่ | K17: ถึงวันที่
D18: ลาพักผ่อน จำนวน | K18: ครั้งๆ ละ | P18: วัน | Q18: ดังนี้
D19: วันที่ | K19: ถึงวันที่
D20: ลาพักตามวงรอบ จำนวน | K20: ครั้งๆ ละ | P20: วัน | Q20: ดังนี้
D21: วันที่ | K21: ถึงวันที่
D22: การลาประเภทอื่นตามระเบียบของทางราชการ (ระบุ)
D23: จำนวน | H23: ครั้งๆ ละ | M23: วัน ดังนี้
D24: วันที่ | K24: ถึงวันที่
C25: √ | D25: ไม่ได้ลา
D26: ๔. ในขณะที่ได้รับคำสั่งให้ปฏิบัติหน้าที่ในพื้นที่ย่านอันตราย ตามข้อ ๒ ผู้บังคับบัญชามีคำสั่งที่ | T26: - /
A27: ลงวันที่ | C27: - | H27: มอบหมายให้ไปปฏิบัติหน้าที่ | N27: - | S27: ณ | T27: -
A28: ในวันที่ | C28: - | H28: ถึงวันที่ | J28: - | M28: รวม | O28: - | Q28: วัน
D29: ๕. ข้าพเจ้าได้รับ พ.ส.ร./เงินรางวัลสำหรับการสู้รบ ตามระเบียบ บ.ท.ช. มาแล้ว จำนวน | S29: ๓ | Y29: ครั้ง
A30: ครั้งที่ ๑ เมื่อวันที่ | E30: ๑ ต.ค.๕๐ | I30: ครั้งที่ ๒ เมื่อวันที่ | L30: ๑ ต.ค.๕๑ | R30: ครั้งที่ ๓ เมื่อวันที่ | U30: ๑ ต.ค.๕๒
K32: ( ลงชื่อ) | M32: ร.ท.
N33: ( | P33: วัชรินทร์ | R33: เมืองดิษฐ์ | V33: )
K34: ตำแหน่ง | O34: =+D5 -> ผบ.มว.สาย ร้อย.สายและวิทยุถ่ายทอด ส.พัน.๒๔ ทภ.๔
M35: วันที่ | N35: ๑ | Q35: เดือน | R35: ต.ค. | V35: พ.ศ. | W35: ๖๓
C37: ข้าพเจ้าได้ตรวจสอบข้อมูลของ (ยศ/ชื่อ – นามสกุล) | T37: แล้วเห็นว่า
E38: ถูกต้องเป็นจริงทุกประการและขอรับรองว่าในปีงบประมาณที่ขอรับสิทธิ ผู้นี้ไม่ได้เป็นผู้มีความประพฤติเสื่อมเสียหรือบกพร่องต่อหน้าที่
A39: และเป็นผู้ที่มีพฤติกรรมเข้าข่ายได้รับสิทธิ ตามระเบียบ บ.ท.ช. และยังไม่ได้รับสิทธิตามระเบียบหรือกฎหมายอื่นใด
D40: √ | E40: ไม่เป็นไปตามที่ได้รับรองมา เนื่องจาก
J42: (ลงชื่อ)
M43: ( | S43: )
...

Sheet แบบ บ.ท.ช.2-ย.(สูตร)
A1: แบบ บ.ท.ช.๒/ย.
A2: หนังสือรับรองคุณสมบัติ
A3: ผู้ปฏิบัติหน้าที่ในพื้นที่ย่านอันตราย ตามระเบียบ บ.ท.ช. ข้อ ๑๐.๕ | Z3: ลำดับเสนอขอ
D4: ๑. ข้าพเจ้า (ยศ/ชื่อ – นามสกุล) | J4: =VLOOKUP(Z4,'ฐานข้อมูล บ.ท.ช.2ย._ห้ามลบ'!$A$2:$Y$65000,2,0) -> ร.ท. วัชรินทร์ | N4: =VLOOKUP(Z4,'ฐานข้อมูล บ.ท.ช.2ย._ห้ามลบ'!$A$2:$AE$65000,3,0) -> เมืองดิษฐ์ | Z4: 1
A5: ตำแหน่ง (ปกติ) | D5: =VLOOKUP(Z4,'ฐานข้อมูล บ.ท.ช.2ย._ห้ามลบ'!$A$2:$AE$65000,4,0) -> ผบ.มว.สาย ร้อย.สายและวิทยุถ่ายทอด ส.พัน.๒๔ ทภ.๔ | Q5: สังกัด(ปกติ) | T5: =VLOOKUP(Z4,'ฐานข้อมูล บ.ท.ช.2ย._ห้ามลบ'!$A$2:$AE$65000,5,0) -> ส.พัน.๒๔ ทภ.๔ | AE5: อธิบาย
A6: ขอรับรองว่าในปีงบประมาณ พ.ศ. | G6: =VLOOKUP(Z4,'ฐานข้อมูล บ.ท.ช.2ย._ห้ามลบ'!$A$2:$AE$65000,7,0) -> 2563 | K6: ได้ปฏิบัติหน้าที่ราชการในการป้องกันอธิปไตย และรักษาความสงบเรียบร้อยของประเทศ | Z6: 1 | AA6: ชื่อคนลงนาม_หน้า 1 ห้ามลบ หน้า2 ลบได้ | AE6: 1 | AF6: ตั้งค่าหน้ากระดาษ แนวตั้ง ขนาด 95%
A7: ตามระเบียบ บ.ท.ช. ข้อ ๔.๑.๓ การป้องกัน ขัดขวาง ระงับ หรือปราบปรามการก่อความไม่สงบเรียบร้อยของประเทศ การจลาจล หรือวินาศกรรม | AA7: พล.ท. | AB7: ยศ ผู้ลงนาม | AF7: บน | AG7: 0.5
D8: ๒. ปฏิบัติหน้าที่ และเป็นกำลังพลในโครงสร้างของ กอ.รมน.ภาค ๔ สน. ตามคำสั่ง | S8: =VLOOKUP(Z4,'ฐานข้อมูล บ.ท.ช.2ย._ห้ามลบ'!$A$2:$AE$65000,8,0) -> กอ.รมน. | AA8: พรศักดิ์ พูลสวัสดิ์ | AB8: ชื่อผู้ลงนาม | AF8: ล่าง | AG8: 0.5
A9: ที่ | B9: =VLOOKUP(Z4,'ฐานข้อมูล บ.ท.ช.2ย._ห้ามลบ'!$A$2:$AE$65000,9,0) -> ๗๔๖(๔)/๒๕๖๓ | H9: ลงวันที่ | J9: =VLOOKUP(Z4,'ฐานข้อมูล บ.ท.ช.2ย._ห้ามลบ'!$A$2:$AE$65000,10,0) -> ๗ ก.ค.๖๓ | N9: ในตำแหน่ง | Q9: =VLOOKUP(Z4,'ฐานข้อมูล บ.ท.ช.2ย._ห้ามลบ'!$A$2:$AE$65000,6,0) -> นายทหารสวัสดิการ ผบร.สบค.กอ.รมน.ภาค ๔ สน. | Z9: 2 | AA9: ตำแหน่ง_หน้า 1 ห้ามลบ หน้า2 ลบได้ | AF9: หัว | AG9: 0.5
A10: ตั้งแต่วันที่ | D10: =VLOOKUP(Z4,'ฐานข้อมูล บ.ท.ช.2ย._ห้ามลบ'!$A$2:$AE$65000,11,0) -> ๑ ต.ค.๖๒ | J10: และพ้นจากการปฏิบัติหน้าที่ตามคำสั่ง | Q10: =VLOOKUP(Z4,'ฐานข้อมูล บ.ท.ช.2ย._ห้ามลบ'!$A$2:$AE$65000,8,0) -> กอ.รมน. | T10: ที่ | U10: =VLOOKUP(Z4,'ฐานข้อมูล บ.ท.ช.2ย._ห้ามลบ'!$A$2:$AE$65000,9,0) -> ๗๔๖(๔)/๒๕๖๓ | AA10: มทภ.๔ | AF10: ซ้าย | AG10: 0.5
A11: ลงวันที่ | C11: =VLOOKUP(Z4,'ฐานข้อมูล บ.ท.ช.2ย._ห้ามลบ'!$A$2:$AE$65000,10,0) -> ๗ ก.ค.๖๓ | G11: ในตำแหน่ง | I11: =VLOOKUP(Z4,'ฐานข้อมูล บ.ท.ช.2ย._ห้ามลบ'!$A$2:$AE$65000,6,0) -> นายทหารสวัสดิการ ผบร.สบค.กอ.รมน.ภาค ๔ สน. | U11: ตั้งแต่วันที่ | W11: =VLOOKUP(Z4,'ฐานข้อมูล บ.ท.ช.2ย._ห้ามลบ'!$A$2:$AE$65000,12,0) -> ๑ ต.ค.๖๓ | AF11: ขวา | AG11: 0.5
D12: ๓. ในห้วงของการปฏิบัติหน้าที่ดังกล่าว ข้าพเจ้าได้ปฏิบัติงานประจำในพื้นที่ตำบล | R12: =VLOOKUP(Z4,'ฐานข้อมูล บ.ท.ช.2ย._ห้ามลบ'!$A$2:$AE$65000,13,0) -> เขาตูม | Z12: 3 | AA12: เดือนที่จะให้ลงนาม | AE12: 2 | AF12: ความกว้าง ต่อ 1 หน้า
A13: อำเภอ | C13: =VLOOKUP(Z4,'ฐานข้อมูล บ.ท.ช.2ย._ห้ามลบ'!$A$2:$AE$65000,14,0) -> ยะรัง | H13: จังหวัด | J13: =VLOOKUP(Z4,'ฐานข้อมูล บ.ท.ช.2ย._ห้ามลบ'!$A$2:$AE$65000,15,0) -> ปัตตานี | Q13: ข้าพเจ้าได้รับอนุมัติการลา ดังนี้ | AF13: คอลัมม์ | AG13: A - Y
D14: ลาป่วย จำนวน | K14: ครั้งๆ ละ | P14: วัน | Q14: ดังนี้ | AA14: ตุลาคม | AF14: แถว | AG14: 1- 43
D15: วันที่ | K15: ถึงวันที่ | AF15: ความกว้างแถวทั้งหน้า | AG15: 18
D16: ลากิจ จำนวน | K16: ครั้งๆ ละ | P16: วัน | Q16: ดังนี้ | Z16: 4 | AA16: ปี พ.ศ. จะให้ลงนาม | AE16: 3 | AF16: Lock ค่า แถว
D17: วันที่ | K17: ถึงวันที่ | AF17: แนว ตั้ง | AG17: A2
D18: ลาพักผ่อน จำนวน | K18: ครั้งๆ ละ | P18: วัน | Q18: ดังนี้ | AA18: 2563 | AF18: แนว นอน | AG18: Y65000
D19: วันที่ | K19: ถึงวันที่ | AE19: 4 | AF19: ลบคำอธิบายตั้งแต่คนที่ 2 ออก
D20: ลาพักตามวงรอบ จำนวน | K20: ครั้งๆ ละ | P20: วัน | Q20: ดังนี้
D21: วันที่ | K21: ถึงวันที่
D22: การลาประเภทอื่นตามระเบียบของทางราชการ (ระบุ)
D23: จำนวน | H23: ครั้งๆ ละ | M23: วัน ดังนี้
D24: วันที่ | K24: ถึงวันที่
C25: √ | D25: ไม่ได้ลา
D26: ๔. ในขณะที่ได้รับคำสั่งให้ปฏิบัติหน้าที่ในพื้นที่ย่านอันตราย ตามข้อ ๒ ผู้บังคับบัญชามีคำสั่งที่ | T26: - /
A27: ลงวันที่ | C27: - | H27: มอบหมายให้ปฏิบัติหน้าที่ | N27: - | S27: ณ | T27: -
A28: ในวันที่ | C28: - | H28: ถึงวันที่ | J28: - | M28: รวม | O28: - | Q28: วัน
D29: ๕. ข้าพเจ้าได้รับ พ.ส.ร./เงินรางวัลสำหรับการสู้รบ ตามระเบียบ บ.ท.ช. มาแล้ว จำนวน | S29: =VLOOKUP(Z4,'ฐานข้อมูล บ.ท.ช.2ย._ห้ามลบ'!$A$2:$AE$65000,16,0) -> 3 | Y29: ครั้ง
A30: ครั้งที่ ๑ เมื่อวันที่ | E30: =VLOOKUP(Z4,'ฐานข้อมูล บ.ท.ช.2ย._ห้ามลบ'!$A$2:$AE$65000,17,0) -> ๑ ต.ค.๕๐ | I30: ครั้งที่ ๒ เมื่อวันที่ | L30: =VLOOKUP(Z4,'ฐานข้อมูล บ.ท.ช.2ย._ห้ามลบ'!$A$2:$AE$65000,18,0) -> ๑ ต.ค.๕๑ | R30: ครั้งที่ ๓ เมื่อวันที่ | U30: =VLOOKUP(Z4,'ฐานข้อมูล บ.ท.ช.2ย._ห้ามลบ'!$A$2:$AE$65000,19,0) -> ๑ ต.ค.๕๒
K32: ( ลงชื่อ) | M32: =VLOOKUP(Z4,'ฐานข้อมูล บ.ท.ช.2ย._ห้ามลบ'!$A$2:$AE$65000,20,0) -> ร.ท.
N33: ( | P33: =VLOOKUP(Z4,'ฐานข้อมูล บ.ท.ช.2ย._ห้ามลบ'!$A$2:$AE$65000,21,0) -> วัชรินทร์ | S33: =VLOOKUP(Z4,'ฐานข้อมูล บ.ท.ช.2ย._ห้ามลบ'!$A$2:$AE$65000,22,0) -> เมืองดิษฐ์ | V33: )
K34: ตำแหน่ง | O34: =VLOOKUP(Z4,'ฐานข้อมูล บ.ท.ช.2ย._ห้ามลบ'!$A$2:$AE$65000,4,0) -> ผบ.มว.สาย ร้อย.สายและวิทยุถ่ายทอด ส.พัน.๒๔ ทภ.๔
M35: วันที่ | Q35: เดือน | R35: =+$AA$14 -> ตุลาคม | V35: พ.ศ. | W35: =+$AA$18 -> 2563
C37: ข้าพเจ้าได้ตรวจสอบข้อมูลของ (ยศ/ชื่อ – นามสกุล) | M37: =CONCATENATE(J4," ",N4) -> ร.ท. วัชรินทร์ เมืองดิษฐ์ | T37: แล้วเห็นว่า
E38: ถูกต้องเป็นจริงทุกประการและขอรับรองว่าในปีงบประมาณที่ขอรับสิทธิ ผู้นี้ไม่ได้เป็นผู้มีความประพฤติเสื่อมเสียหรือบกพร่องต่อหน้าที่
A39: และเป็นผู้ที่มีพฤติกรรมเข้าข่ายได้รับสิทธิ ตามระเบียบ บ.ท.ช. และยังไม่ได้รับสิทธิตามระเบียบหรือกฎหมายอื่นใด
D40: √ | E40: ไม่เป็นไปตามที่ได้รับรองมา เนื่องจาก
J42: (ลงชื่อ) | L42: =+$AA$7 -> พล.ท.
M43: ( | N43: =+$AA$8 -> พรศักดิ์ พูลสวัสดิ์ | S43: )
...

Sheet ฐานข้อมูล บ.ท.ช.2ย._ห้ามลบ
A1: ลำดับ (1) | B1: ชื่อ (2) | C1: สกุล (3) | D1: ตำแหน่งปกติ (4) | E1: สังกัด (5) | F1: ตำแหน่งสนาม (6) | G1: ปีงบประมาณที่ทำ (7) | H1: ตามคำสั่ง กอ.รมน. (8) | I1: คำสั่งปฏิบัติ (9) | J1: ลงวันที่ปฏิบัติ (10) | K1: วันที่ปฏิบัติ (11) | L1: วันที่พ้น (12) | M1: ตำบล (13) | N1: อำเภอ (14) | O1: จังหวัด (15) | P1: จำนวน (16) | Q1: ครั้งที่ 1 (17) | R1: ครั้งที่ 2 (18) | S1: ครั้งที่ 3 (19) | T1: ช่อง ยศ (20) | U1: ชื่อ (21) | V1: สกุล (22)
A2: 1 | B2: ร.ท. วัชรินทร์ | C2: เมืองดิษฐ์ | D2: ผบ.มว.สาย ร้อย.สายและวิทยุถ่ายทอด ส.พัน.๒๔ ทภ.๔ | E2: ส.พัน.๒๔ ทภ.๔ | F2: นายทหารสวัสดิการ ผบร.สบค.กอ.รมน.ภาค ๔ สน. | G2: 2563 | H2: กอ.รมน. | I2: ๗๔๖(๔)/๒๕๖๓ | J2: ๗ ก.ค.๖๓ | K2: ๑ ต.ค.๖๒ | L2: ๑ ต.ค.๖๓ | M2: เขาตูม | N2: ยะรัง | O2: ปัตตานี | P2: 3 | Q2: ๑ ต.ค.๕๐ | R2: ๑ ต.ค.๕๑ | S2: ๑ ต.ค.๕๒ | T2: =LEFT(B2,4) -> ร.ท. | U2: วัชรินทร์ | V2: เมืองดิษฐ์
A3: 2 | B3: พ.อ.อิศรา | C3: จันทะกระยอม | D3: ผบ.กรม ทพ.๔๕ | E3: กรม ทพ.๔๕ | F3: ผู้บังคับหน่วยเฉพาะกิจ | G3: 2559 | H3: กอ.รมน. | I3: ๖๗๗(๔)/๒๕๕๙ | J3: ๒๙ มิ.ย.๕๙ | K3: ๔ พ.ค.๕๙ | L3: ๑ ต.ค.๕๙ | M3: ตันหยงมัส | N3: ระแงะ | O3: นราธิวาส | P3: - | Q3: - | R3: - | S3: - | T3: =LEFT(B3,4) -> พ.อ. | U3: อิศรา | V3: จันทะกระยอม
A4: 3 | B4: พ.อ.ชุติเดช | C4: ชวณิชย์ | D4: รอง ผบ.กรม ทพ.๔๕ | E4: กรม ทพ.๔๕ | F4: รองผู้บังคับหน่วยเฉพาะกิจ | G4: 2559 | H4: กอ.รมน. | I4: ๑๖๓(๔)/๒๕๕๙ | J4: ๔ มี.ค.๕๙ | K4: ๑ ต.ค.๕๘ | L4: ๑ ต.ค.๕๙ | M4: ตันหยงมัส | N4: ระแงะ | O4: นราธิวาส | P4: 3 | Q4: ๑ ต.ค.๕๒ | R4: ๑ ต.ค.๕๓ | S4: ๑ ต.ค.๕๔ | T4: =LEFT(B4,4) -> พ.อ. | U4: ชุติเดช | V4: ชวณิชย์
A5: 4 | B5: พ.ท.เจษฎา | C5: ปิยะสุวรรณ | D5: รอง ผบ.กรม ทพ.๔๕ | E5: กรม ทพ.๔๕ | F5: รองผู้บังคับหน่วยเฉพาะกิจ | G5: 2559 | H5: กอ.รมน. | I5: ๖๗๗ (๔)/๒๕๕๙ | J5: ๒๙ มิ.ย.๕๙ | K5: ๔ พ.ค.๕๙ | L5: ๑ ต.ค.๕๙ | M5: ตันหยงมัส | N5: ระแงะ | O5: นราธิวาส | P5: 2 | Q5: ๑ ต.ค.๕๒ | R5: ๑ ต.ค.๕๘ | S5: - | T5: =LEFT(B5,4) -> พ.ท. | U5: เจษฎา | V5: ปิยะสุวรรณ
A6: 5 | B6: พ.ท.ศุภชัย | C6: เกษนา | D6: ประจำ นทพ. | E6: กรม ทพ.๔๕ | F6: รองผู้บังคับหน่วยเฉพาะกิจ | G6: 2559 | H6: กอ.รมน. | I6: ๔๑๖/๒๕๕๙ | J6: ๑๕ มิ.ย.๕๙ | K6: ๑ ต.ค.๕๘ | L6: ๒๖ เม.ย.๕๙ | M6: ตันหยงมัส | N6: ระแงะ | O6: นราธิวาส | P6: 3 | Q6: ๑ ต.ค.๔๘ | R6: ๑ ต.ค.๔๙ | S6: ๑ ต.ค.๕๐ | T6: =LEFT(B6,4) -> พ.ท. | U6: ศุภชัย | V6: เกษนา
A7: 6 | B7: พ.ต.กิตติศักดิ์ | C7: ทัพอิ่ม | D7: ประจำ มทบ.๔๕ | E7: กรม ทพ.๔๕ | F7: เสนาธิการหน่วยเฉพาะกิจ | G7: 2559 | H7: กอ.รมน. | I7: ๑๖๓(๔)/๒๕๕๙ | J7: ๔ มี.ค.๕๙ | K7: ๑ ต.ค.๕๘ | L7: ๒๖ เม.ย.๕๙ | M7: ตันหยงมัส | N7: ระแงะ | O7: นราธิวาส | P7: 3 | Q7: ๑ ต.ค.๔๘ | R7: ๑ ต.ค.๔๙ | S7: ๑ ต.ค.๕๐ | T7: =LEFT(B7,4) -> พ.ต. | U7: กิตติศักดิ์ | V7: ทัพอิ่ม
A8: 7 | B8: ร.อ.สุวพันธ์ | C8: พรหมวิรัตน์ | D8: นายทหารการเงิน กรม ทพ.๔๕ | E8: กรม ทพ.๔๕ | F8: นายทหารการเงิน บก.ฉก.ทพ.๔๕ | G8: 2559 | H8: กอ.รมน. | I8: ๑๖๓(๔)/๒๕๕๙ | J8: ๔ มี.ค.๕๙ | K8: ๑ ต.ค.๕๘ | L8: ๑ ต.ค.๕๙ | M8: ตันหยงมัส | N8: ระแงะ | O8: นราธิวาส | P8: 3 | Q8: ๑ ต.ค.๕๑ | R8: ๑ ต.ค.๕๒ | S8: ๑ ต.ค.๕๓ | T8: =LEFT(B8,4) -> ร.อ. | U8: สุวพันธ์ | V8: พรหมวิรัตน์
A9: 8 | B9: จ.ส.อ.อานนท์ | C9: แสงอรุณ | D9: นายสิบการเงิน บก.กรม ทพ.๔๕ | E9: กรม ทพ.๔๕ | F9: นายสิบการเงิน บก.ฉก.ทพ.๔๕ | G9: 2559 | H9: กอ.รมน. | I9: ๑๖๓(๔)/๒๕๕๙ | J9: ๔ มี.ค.๕๙ | K9: ๑ ต.ค.๕๘ | L9: ๑ ต.ค.๕๙ | M9: ตันหยงมัส | N9: ระแงะ | O9: นราธิวาส | P9: 3 | Q9: ๑ ต.ค.๔๘ | R9: ๑ ต.ค.๔๙ | S9: ๑ ต.ค.๕๐ | T9: =LEFT(B9,6) -> จ.ส.อ. | U9: อานนท์ | V9: แสงอรุณ
A10: 9 | B10: ส.ท.ธวัชชัย | C10: เชื้อศรีชัย | D10: นายสิบการเงิน บก.กรม ทพ.๔๕ | E10: กรม ทพ.๔๕ | F10: นายสิบการเงิน บก.ฉก.ทพ.๔๕ | G10: 2559 | H10: กอ.รมน. | I10: ๑๖๓(๔)/๒๕๕๙ | J10: ๔ มี.ค.๕๙ | K10: ๑ ต.ค.๕๘ | L10: ๑ ต.ค.๕๙ | M10: ตันหยงมัส | N10: ระแงะ | O10: นราธิวาส | P10: 2 | Q10: ๑ ต.ค.๕๗ | R10: ๑ ต.ค.๕๘ | S10: - | T10: =LEFT(B10,4) -> ส.ท. | U10: ธวัชชัย | V10: เชื้อศรีชัย
A11: 10 | B11: จ.ส.อ.สุริยา | C11: ช่วยปลอด | D11: นายสิบพยาบาล บก.กรม ทพ.๔๕ | E11: กรม ทพ.๔๕ | F11: นายสิบสิบพยาบาล บก.ฉก.ทพ.๔๕ | G11: 2559 | H11: กอ.รมน. | I11: ๑๖๓(๔)/๒๕๕๙ | J11: ๔ มี.ค.๕๙ | K11: ๑ ต.ค.๕๘ | L11: ๑ ต.ค.๕๙ | M11: ตันหยงมัส | N11: ระแงะ | O11: นราธิวาส | P11: 3 | Q11: ๑ ต.ค.๔๘ | R11: ๑ ต.ค.๔๙ | S11: ๑ ต.ค.๕๐ | T11: =LEFT(B11,6) -> จ.ส.อ. | U11: สุริยา | V11: ช่วยปลอด
A12: 11 | B12: จ.ส.อ.สุรชา | C12: วงค์อนุ | D12: นายสิบยุทธการและการข่าว บก.ร้อย.ร้อย.ทพ.กรม ทพ.๔๕ | E12: กรม ทพ.๔๕ | F12: นายสิบสิบพยาบาล บก.ฉก.ทพ.๔๕ | G12: 2559 | H12: กอ.รมน. | I12: ๑๖๓(๔)/๒๕๕๙ | J12: ๔ มี.ค.๕๙ | K12: ๑ ต.ค.๕๘ | L12: ๑ ต.ค.๕๙ | M12: ตันหยงมัส | N12: ระแงะ | O12: นราธิวาส | P12: 3 | Q12: ๑ ต.ค.๔๘ | R12: ๑ ต.ค.๔๙ | S12: ๑ ต.ค.๕๐ | T12: =LEFT(B12,6) -> จ.ส.อ. | U12: สุรชา | V12: วงค์อนุ
A13: 12 | B13: จ.ส.อ.เลิศชาย | C13: อ่อนศรี | D13: นายสิบส่งเสริมวัฒนธรรม ร้อย.พัฒนา ๑ พัน.พัฒนา ๔ | E13: พล.พัฒนา ๔ | F13: นายสิบสื่อสาร บก.ฉก.ทพ.๔๕ | G13: 2559 | H13: กอ.รมน. | I13: ๑๖๓(๔)/๒๕๕๙ | J13: ๔ มี.ค.๕๙ | K13: ๑ ต.ค.๕๘ | L13: ๑ ต.ค.๕๙ | M13: ตันหยงมัส | N13: ระแงะ | O13: นราธิวาส | P13: - | Q13: - | R13: - | S13: - | T13: =LEFT(B13,6) -> จ.ส.อ. | U13: เลิศชาย | V13: อ่อนศรี
A14: 13 | B14: อส.ทพ.สมเดช | C14: สุทธิมาศ | D14: พลนำสาร บก.กรม ทพ.๔๕ | E14: กรม ทพ.๔๕ | F14: พลนำสาร บก.ฉก.ทพ.๔๕ | G14: 2559 | H14: กอ.รมน. | I14: ๑๖๓(๔)/๒๕๕๙ | J14: ๔ มี.ค.๕๙ | K14: ๑ ต.ค.๕๘ | L14: ๑ ต.ค.๕๙ | M14: ตันหยงมัส | N14: ระแงะ | O14: นราธิวาส | P14: 3 | Q14: ๑ ต.ค.๕๖ | R14: ๑ ต.ค.๕๗ | S14: ๑ ต.ค.๕๘ | T14: =LEFT(B14,6) -> อส.ทพ. | U14: สมเดช | V14: สุทธิมาศ
A15: 14 | B15: อส.ทพ.ทรงศักดิ์ | C15: เพชรไพ | D15: พลนำสาร บก.กรม ทพ.๔๕ | E15: กรม ทพ.๔๕ | F15: พลนำสาร บก.ฉก.ทพ.๔๕ | G15: 2559 | H15: กอ.รมน. | I15: ๑๖๓(๔)/๒๕๕๙ | J15: ๔ มี.ค.๕๙ | K15: ๑ ต.ค.๕๘ | L15: ๑ ต.ค.๕๙ | M15: ตันหยงมัส | N15: ระแงะ | O15: นราธิวาส | P15: - | Q15: - | R15: - | S15: - | T15: =LEFT(B15,6) -> อส.ทพ. | U15: ทรงศักดิ์ | V15: เพชรไพ
A16: 15 | B16: อส.ทพ.ไพโรจน์ | C16: คงเรือง | D16: ทหารประจำ บก.กรม ทพ.๔๕ | E16: กรม ทพ.๔๕ | F16: ทหารประจำ บก.ฉก.ทพ.๔๕ | G16: 2559 | H16: กอ.รมน. | I16: ๑๖๓(๔)/๒๕๕๙ | J16: ๔ มี.ค.๕๙ | K16: ๑ ต.ค.๕๘ | L16: ๑ ต.ค.๕๙ | M16: ตันหยงมัส | N16: ระแงะ | O16: นราธิวาส | P16: 3 | Q16: ๑ ต.ค.๔๘ | R16: ๑ ต.ค.๔๙ | S16: ๑ ต.ค.๕๐ | T16: =LEFT(B16,6) -> อส.ทพ. | U16: ไพโรจน์ | V16: คงเรือง
A17: 16 | B17: อส.ทพ.นิกร | C17: ช่วยศรีสวัสดิ์ | D17: ทหารประจำ บก.กรม ทพ.๔๕ | E17: กรม ทพ.๔๕ | F17: ทหารประจำ บก.ฉก.ทพ.๔๕ | G17: 2559 | H17: กอ.รมน. | I17: ๑๖๓(๔)/๒๕๕๙ | J17: ๔ มี.ค.๕๙ | K17: ๑ ต.ค.๕๘ | L17: ๑ ต.ค.๕๙ | M17: ตันหยงมัส | N17: ระแงะ | O17: นราธิวาส | P17: 3 | Q17: ๑ ต.ค.๔๘ | R17: ๑ ต.ค.๔๙ | S17: ๑ ต.ค.๕๐ | T17: =LEFT(B17,6) -> อส.ทพ. | U17: นิกร | V17: ช่วยศรีสวัสดิ์
A18: 17 | B18: อส.ทพ.สุจินต์ | C18: เสนามิตร | D18: ทหารประจำ บก.กรม ทพ.๔๕ | E18: กรม ทพ.๔๕ | F18: ทหารประจำ บก.ฉก.ทพ.๔๕ | G18: 2559 | H18: กอ.รมน. | I18: ๑๖๓(๔)/๒๕๕๙ | J18: ๔ มี.ค.๕๙ | K18: ๑ ต.ค.๕๘ | L18: ๑ ต.ค.๕๙ | M18: ตันหยงมัส | N18: ระแงะ | O18: นราธิวาส | P18: 3 | Q18: ๑ ต.ค.๔๘ | R18: ๑ ต.ค.๔๙ | S18: ๑ ต.ค.๕๐ | T18: =LEFT(B18,6) -> อส.ทพ. | U18: สุจินต์ | V18: เสนามิตร
A19: 18 | B19: อส.ทพ.สมชัย | C19: คลังนิพิศ | D19: ทหารประจำ บก.กรม ทพ.๔๕ | E19: กรม ทพ.๔๕ | F19: ทหารประจำ บก.ฉก.ทพ.๔๕ | G19: 2559 | H19: กอ.รมน. | I19: ๑๖๓(๔)/๒๕๕๙ | J19: ๔ มี.ค.๕๙ | K19: ๑ ต.ค.๕๘ | L19: ๑ ต.ค.๕๙ | M19: ตันหยงมัส | N19: ระแงะ | O19: นราธิวาส | P19: 3 | Q19: ๑ ต.ค.๔๘ | R19: ๑ ต.ค.๔๙ | S19: ๑ ต.ค.๕๐ | T19: =LEFT(B19,6) -> อส.ทพ. | U19: สมชัย | V19: คลังนิพิศ
A20: 19 | B20: อส.ทพ.ธนันชัย | C20: คงกะพันธ์ | D20: ทหารประจำ บก.กรม ทพ.๔๕ | E20: กรม ทพ.๔๕ | F20: ทหารประจำ บก.ฉก.ทพ.๔๕ | G20: 2559 | H20: กอ.รมน. | I20: ๑๖๓(๔)/๒๕๕๙ | J20: ๔ มี.ค.๕๙ | K20: ๑ ต.ค.๕๘ | L20: ๑ ต.ค.๕๙ | M20: ตันหยงมัส | N20: ระแงะ | O20: นราธิวาส | P20: 3 | Q20: ๑ ต.ค.๕๕ | R20: ๑ ต.ค.๕๖ | S20: ๑ ต.ค.๕๗ | T20: =LEFT(B20,6) -> อส.ทพ. | U20: ธนันชัย | V20: คงกะพันธ์
A21: 20 | B21: อส.ทพ.พิษณุพงษ์ | C21: เทพคำภา | D21: ทหารประจำ บก.กรม ทพ.๔๕ | E21: กรม ทพ.๔๕ | F21: ทหารประจำ บก.ฉก.ทพ.๔๕ | G21: 2559 | H21: กอ.รมน. | I21: ๑๖๓(๔)/๒๕๕๙ | J21: ๔ มี.ค.๕๙ | K21: ๑ ต.ค.๕๘ | L21: ๑ ต.ค.๕๙ | M21: ตันหยงมัส | N21: ระแงะ | O21: นราธิวาส | P21: 3 | Q21: ๑ ต.ค.๕๕ | R21: ๑ ต.ค.๕๖ | S21: ๑ ต.ค.๕๗ | T21: =LEFT(B21,6) -> อส.ทพ. | U21: พิษณุพงษ์ | V21: เทพคำภา
A22: 21 | B22: ร.อ.วิมล | C22: แจ้งสว่าง | D22: อนุศาสนาจารย์ กรม ทพ.๔๕ | E22: กรม ทพ.๔๕ | F22: อนุศาสนาจารณ์ บก.ฉก.ทพ.๔๕ | G22: 2559 | H22: กอ.รมน. | I22: ๑๖๓(๔)/๒๕๕๙ | J22: ๔ มี.ค.๕๙ | K22: ๑ ต.ค.๕๘ | L22: ๑๙ ก.พ.๕๙ | M22: ตันหยงมัส | N22: ระแงะ | O22: นราธิวาส | P22: 1 | Q22: ๑ ต.ค.๕๘ | R22: - | S22: - | T22: =LEFT(B22,4) -> ร.อ. | U22: วิมล | V22: แจ้งสว่าง
A23: 22 | B23: ร.อ.สุดใจ | C23: วงละคร | D23: อนุศาสนาจารย์ กรม ทพ.๔๕ | E23: กรม ทพ.๔๕ | F23: อนุศาสนาจารย์ บก.ฉก.ทพ.๔๕ | G23: 2559 | H23: กอ.รมน. | I23: ๔๐๓(๔)/๒๕๕๙ | J23: ๒๓ เม.ย.๕๙ | K23: ๑ เม.ย.๕๙ | L23: ๑ ต.ค.๕๙ | M23: ตันหยงมัส | N23: ระแงะ | O23: นราธิวาส | P23: - | Q23: - | R23: - | S23: - | T23: =LEFT(B23,4) -> ร.อ. | U23: สุดใจ | V23: วงละคร
A24: 23 | B24: จ.ส.ท.บุญเลิศ | C24: ยงสุทธิ์ | D24: ผบ.ชุด ลว.ร้อย.ลว.ไกล ๕ | E24: กรม ทพ.๔๕ | F24: ผู้ช่วยอนุศาสนาจารณ์ บก.ฉก.ทพ.๔๕ | G24: 2559 | H24: กอ.รมน. | I24: ๑๖๓(๔)/๒๕๕๙ | J24: ๔ มี.ค.๕๙ | K24: ๑ ต.ค.๕๘ | L24: ๑ ต.ค.๕๙ | M24: ตันหยงมัส | N24: ระแงะ | O24: นราธิวาส | P24: - | Q24: - | R24: - | S24: - | T24: =LEFT(B24,6) -> จ.ส.ท. | U24: บุญเลิศ | V24: ยงสุทธิ์
A25: 24 | B25: จ.ส.ท.สมพงค์ | C25: คงทอง | D25: นายสิบปศุสัตว์ ร้อย.พัฒนา ๒ พัน.พัฒนา ๔ | E25: พล.พัฒนา ๔ | F25: นายสิบช่างอาวุธ บก.ฉก.ทพ.๔๕ | G25: 2559 | H25: กอ.รมน. | I25: ๑๖๓(๔)/๒๕๕๙ | J25: ๔ มี.ค.๕๙ | K25: ๑ ต.ค.๕๘ | L25: ๑ ต.ค.๕๙ | M25: ตันหยงมัส | N25: ระแงะ | O25: นราธิวาส | P25: - | Q25: - | R25: - | S25: - | T25: =LEFT(B25,6) -> จ.ส.ท. | U25: สมพงค์ | V25: คงทอง
A26: 25 | B26: ส.ท.สุชล | C26: พรหมคงบุญ | D26: พลวิทยุ บก.กรม ทพ.๔๕ | E26: กรม ทพ.๔๕ | F26: พลวิทยุ บก.ฉก.ทพ.๔๕ | G26: 2559 | H26: กอ.รมน. | I26: ๑๖๓(๔)/๒๕๕๙ | J26: ๔ มี.ค.๕๙ | K26: ๑ ต.ค.๕๘ | L26: ๑ ต.ค.๕๙ | M26: ตันหยงมัส | N26: ระแงะ | O26: นราธิวาส | P26: 2 | Q26: ๑ ต.ค.๕๗ | R26: ๑ ต.ค.๕๘ | S26: - | T26: =LEFT(B26,4) -> ส.ท. | U26: สุชล | V26: พรหมคงบุญ
A27: 26 | B27: ส.อ.สมนุกิจ | C27: สืบประดิษฐ์ | D27: พลวิทยุ บก.กรม ทพ.๔๕ | E27: กรม ทพ.๔๕ | F27: พลวิทยุ บก.ฉก.ทพ.๔๕ | G27: 2559 | H27: กอ.รมน. | I27: ๑๖๓(๔)/๒๕๕๙ | J27: ๔ มี.ค.๕๙ | K27: ๑ ต.ค.๕๘ | L27: ๑ ต.ค.๕๙ | M27: ตันหยงมัส | N27: ระแงะ | O27: นราธิวาส | P27: 3 | Q27: ๑ ต.ค.๕๓ | R27: ๑ ต.ค.๕๔ | S27: ๑ ต.ค.๕๕ | T27: =LEFT(B27,4) -> ส.อ. | U27: สมนุกิจ | V27: สืบประดิษฐ์
A28: 27 | B28: จ.ส.ต.วัชรินทร์ | C28: จินคง | D28: หน.ชุดวิทยุปลายทางแลพคลื่นพาย์ ส.พัน.๑๕ | E28: พล.ร.๑๕ | F28: พลขับรถ บก.ฉก.ทพ.๔๕ | G28: 2559 | H28: กอ.รมน. | I28: ๑๖๓(๔)/๒๕๕๙ | J28: ๔ มี.ค.๕๙ | K28: ๑ ต.ค.๕๘ | L28: ๑ ต.ค.๕๙ | M28: ตันหยงมัส | N28: ระแงะ | O28: นราธิวาส | P28: - | Q28: - | R28: - | S28: - | T28: =LEFT(B28,6) -> จ.ส.ต. | U28: วัชรินทร์ | V28: จินคง
A29: 28 | B29: ส.อ.นาวิก | C29: โคตรสีกุล | D29: พลขับรถ บก.กรม ทพ.๔๕ | E29: กรม ทพ.๔๕ | F29: พลขับรถ บก.ฉก.ทพ.๔๕ | G29: 2559 | H29: กอ.รมน. | I29: ๑๖๓(๔)/๒๕๕๙ | J29: ๔ มี.ค.๕๙ | K29: ๑ ต.ค.๕๘ | L29: ๑ ต.ค.๕๙ | M29: ตันหยงมัส | N29: ระแงะ | O29: นราธิวาส | P29: 3 | Q29: ๑ ต.ค.๕๕ | R29: ๑ ต.ค.๕๖ | S29: ๑ ต.ค.๕๗ | T29: =LEFT(B29,4) -> ส.อ. | U29: นาวิก | V29: โคตรสีกุล
A30: 29 | B30: ส.อ.รุ่งอรุณ | C30: คงทรัพย์ | D30: พลขับรถ บก.กรม ทพ.๔๕ | E30: กรม ทพ.๔๕ | F30: พลขับรถ บก.ฉก.ทพ.๔๕ | G30: 2559 | H30: กอ.รมน. | I30: ๑๖๓(๔)/๒๕๕๙ | J30: ๔ มี.ค.๕๙ | K30: ๑ ต.ค.๕๘ | L30: ๑ ต.ค.๕๙ | M30: ตันหยงมัส | N30: ระแงะ | O30: นราธิวาส | P30: 3 | Q30: ๑ ต.ค.๕๕ | R30: ๑ ต.ค.๕๖ | S30: ๑ ต.ค.๕๗ | T30: =LEFT(B30,4) -> ส.อ. | U30: รุ่งอรุณ | V30: คงทรัพย์
A31: 30 | B31: ส.อ.ทรงไทย | C31: นาจรูญ | D31: พลขับรถ บก.กรม ทพ.๔๕ | E31: กรม ทพ.๔๕ | F31: พลขับรถ บก.ฉก.ทพ.๔๕ | G31: 2559 | H31: กอ.รมน. | I31: ๑๖๓(๔)/๒๕๕๙ | J31: ๔ มี.ค.๕๙ | K31: ๑ ต.ค.๕๘ | L31: ๑ ต.ค.๕๙ | M31: ตันหยงมัส | N31: ระแงะ | O31: นราธิวาส | P31: 3 | Q31: ๑ ต.ค.๕๔ | R31: ๑ ต.ค.๕๕ | S31: ๑ ต.ค.๕๖ | T31: =LEFT(B31,4) -> ส.อ. | U31: ทรงไทย | V31: นาจรูญ
A32: 31 | B32: ส.ท.อรรถวุฒิ | C32: บุญใส | D32: พลขับรถ บก.กรม ทพ.๔๕ | E32: กรม ทพ.๔๕ | F32: พลขับรถ บก.ฉก.ทพ.๔๕ | G32: 2559 | H32: กอ.รมน. | I32: ๑๖๓(๔)/๒๕๕๙ | J32: ๔ มี.ค.๕๙ | K32: ๑ ต.ค.๕๘ | L32: ๑ ต.ค.๕๙ | M32: ตันหยงมัส | N32: ระแงะ | O32: นราธิวาส | P32: 2 | Q32: ๑ ต.ค.๕๗ | R32: ๑ ต.ค.๕๘ | S32: - | T32: =LEFT(B32,4) -> ส.ท. | U32: อรรถวุฒิ | V32: บุญใส
A33: 32 | B33: ส.ท.มารุต | C33: เพชรสุทธิ์ | D33: พลขับรถ บก.กรม ทพ.๔๕ | E33: กรม ทพ.๔๕ | F33: พลขับรถ บก.ฉก.ทพ.๔๕ | G33: 2559 | H33: กอ.รมน. | I33: ๑๖๓(๔)/๒๕๕๙ | J33: ๔ มี.ค.๕๙ | K33: ๑ ต.ค.๕๘ | L33: ๑ ต.ค.๕๙ | M33: ตันหยงมัส | N33: ระแงะ | O33: นราธิวาส | P33: 2 | Q33: ๑ ต.ค.๕๗ | R33: ๑ ต.ค.๕๘ | S33: - | T33: =LEFT(B33,4) -> ส.ท. | U33: มารุต | V33: เพชรสุทธิ์
A34: 33 | B34: พ.ต.ประสาน | C34: จันทร | D34: ฝอ.๕ กรม ทพ๕๕ | E34: กรม ทพ.๔๕ | F34: นายทหารฝ่ายกำลังพล บก.ฉก.ทพ.๔๕ | G34: 2559 | H34: กอ.รมน. | I34: ๑๖๓(๔)/๒๕๕๙ | J34: ๔ มี.ค.๕๙ | K34: ๑ ต.ค.๕๘ | L34: ๑ ต.ค.๕๙ | M34: ตันหยงมัส | N34: ระแงะ | O34: นราธิวาส | P34: 3 | Q34: ๑ ต.ค.๔๘ | R34: ๑ ต.ค.๔๙ | S34: ๑ ต.ค.๕๐ | T34: =LEFT(B34,4) -> พ.ต. | U34: ประสาน | V34: จันทร
A35: 34 | B35: ร.ท.ณรงค์ | C35: เชื้อทอง | D35: ผช.นายทหารธุรการและกำลังพล กรม ทพ.๔๕ | E35: กรม ทพ.๔๕ | F35: ผู้ช่วยนายทหารฝ่ายกำลังพล บก.ฉก.ทพ.๔๕ | G35: 2559 | H35: กอ.รมน. | I35: ๑๖๓(๔)/๒๕๕๙ | J35: ๔ มี.ค.๕๙ | K35: ๑ ต.ค.๕๘ | L35: ๑ ต.ค.๕๙ | M35: ตันหยงมัส | N35: ระแงะ | O35: นราธิวาส | P35: 3 | Q35: ๑ ต.ค.๔๘ | R35: ๑ ต.ค.๔๙ | S35: ๑ ต.ค.๕๐ | T35: =LEFT(B35,4) -> ร.ท. | U35: ณรงค์ | V35: เชื้อทอง
A36: 35 | B36: จ.ส.อ.พนภนา | C36: บัวสารบรรณ์ | D36: นายสิบกำลังพล ฝกพ.กรม ทพ.๔๕ | E36: กรม ทพ.๔๕ | F36: นายสิบกำลังพล บก.ฉก.ทพ.๔๕ | G36: 2559 | H36: กอ.รมน. | I36: ๑๖๓(๔)/๒๕๕๙ | J36: ๔ มี.ค.๕๙ | K36: ๑ ต.ค.๕๘ | L36: ๑ ต.ค.๕๙ | M36: ตันหยงมัส | N36: ระแงะ | O36: นราธิวาส | P36: 3 | Q36: ๑ ต.ค.๕๒ | R36: ๑ ต.ค.๕๓ | S36: ๑ ต.ค.๕๔ | T36: =LEFT(B36,6) -> จ.ส.อ. | U36: พนภนา | V36: บัวสารบรรณ์
A37: 36 | B37: ส.อ.ประจักษ์ | C37: โชติดาว | D37: นายสิบกำลังพล ฝกพ.กรม ทพ.๔๕ | E37: กรม ทพ.๔๕ | F37: นายสิบกำลังพล บก.ฉก.ทพ.๔๕ | G37: 2559 | H37: กอ.รมน. | I37: ๑๖๓(๔)/๒๕๕๙ | J37: ๔ มี.ค.๕๙ | K37: ๑ ต.ค.๕๘ | L37: ๑ ต.ค.๕๙ | M37: ตันหยงมัส | N37: ระแงะ | O37: นราธิวาส | P37: 3 | Q37: ๑ ต.ค.๕๓ | R37: ๑ ต.ค.๕๔ | S37: ๑ ต.ค.๕๕ | T37: =LEFT(B37,4) -> ส.อ. | U37: ประจักษ์ | V37: โชติดาว
A38: 37 | B38: พ.ต.นิยม | C38: รักพลับ | D38: หน.แผนกปฏิบัติการส่วนภูมิภาค ทภ.๔ | E38: กรม ทพ.๔๕ | F38: นายทหารฝ่ายการข่าว บก.ฉก.ทพ.๔๕ | G38: 2559 | H38: กอ.รมน. | I38: ๑๖๓(๔)/๒๕๕๙ | J38: ๔ มี.ค.๕๙ | K38: ๑ ต.ค.๕๘ | L38: ๑ ต.ค.๕๙ | M38: ตันหยงมัส | N38: ระแงะ | O38: นราธิวาส | P38: - | Q38: - | R38: - | S38: - | T38: =LEFT(B38,4) -> พ.ต. | U38: นิยม | V38: รักพลับ
A39: 38 | B39: ร.ท.สุเมธ | C39: รักษ์จันทร์ | D39: ผช.ฝอ.๒ กรม ทพ.๔๕ | E39: กรม ทพ.๔๕ | F39: ผู้ช่วยนายทหารฝ่ายการข่าว บก.ฉก.ทพ.๔๕ | G39: 2559 | H39: กอ.รมน. | I39: ๑๖๓(๔)/๒๕๕๙ | J39: ๔ มี.ค.๕๙ | K39: ๑ ต.ค.๕๘ | L39: ๑ ต.ค.๕๙ | M39: ตันหยงมัส | N39: ระแงะ | O39: นราธิวาส | P39: 3 | Q39: ๑ ต.ค.๔๘ | R39: ๑ ต.ค.๔๙ | S39: ๑ ต.ค.๕๐ | T39: =LEFT(B39,4) -> ร.ท. | U39: สุเมธ | V39: รักษ์จันทร์
A40: 39 | B40: จ.ส.ต.อภิรักษ์ | C40: เหมฤค | D40: นายสิบการข่าว ฝขว.กรม ทพ.๔๕ | E40: กรม ทพ.๔๕ | F40: นายสิบการข่าว บก.ฉก.ทพ.๔๕ | G40: 2559 | H40: กอ.รมน. | I40: ๑๖๓(๔)/๒๕๕๙ | J40: ๔ มี.ค.๕๙ | K40: ๑ ต.ค.๕๘ | L40: ๑ ต.ค.๕๙ | M40: ตันหยงมัส | N40: ระแงะ | O40: นราธิวาส | P40: 3 | Q40: ๑ ต.ค.๕๑ | R40: ๑ ต.ค.๕๒ | S40: ๑ ต.ค.๕๓ | T40: =LEFT(B40,6) -> จ.ส.ต. | U40: อภิรักษ์ | V40: เหมฤค
...
